BEGIN:VCALENDAR
VERSION:2.0
PRODID:-//AikidoTravel.com//NONSGML jrICal 1.0 (2018-04-24)//EN
CALSCALE:GREGORIAN
METHOD:PUBLISH
X-FROM-URL: https://aikidotravel.com/seminar-calendar-mobile/filter=13
X-MS-OLK-FORCEINSPECTOROPEN:FALSE
X-WR-CALNAME:Brescia - Borgosatollo
X-WR-RELCALID;VALUE=TEXT:aikido-seminars-filter-13
X-WR-CALDESC;VALUE=TEXT:Aikido Seminars within 300km of Via Leonardo D
	a Vinci, 25010 Borgosatollo BS, Italy.and is associated with the Aikik
	ai organization.
X-PUBLISHED-TTL;VALUE=TEXT:P1W
X-OWNER;VALUE=TEXT:CN="Aikido Travel":mailto:info@aikidotravel.com
X-APPLE-CALENDAR-COLOR:#666666
X-OUTLOOK-COLOR:#666666
X-FUNAMBOL-COLOR:#666666
X-LOTUS-CHARSET:UTF-8
BEGIN:VEVENT
DTSTAMP:20260422T103121Z
CREATED:20260113T225320Z
LAST-MODIFIED:20260116T155736Z
STATUS:CONFIRMED
UID:seminar-2101
DTSTART:20260510
DTEND:20260511
SUMMARY:🥋 Seminario Aikido - Aikido Seminar
DESCRIPTION:🥋 1 day aikido seminar from 10 May\, Firenze\, ITALY. Nino
	 Dellisanti.\n\nMore Info: (https://aikidotravel.com/seminar/2101/semi
	nario-aikido-aikido-seminar)\n\n • Nino Dellisanti\n\n\nPalestra ginna
	stica fiorentina libertas 1877 - P.za di Santa Maria Novella\, 18
orari:...
X-ALT-DESC;FMTTYPE=text/html:<p>🥋 1 day seminar from 10 May\, Firenze\
	, ITALY. Nino Dellisanti</p><p><a href="https://aikidotravel.com/semin
	ar/2101/seminario-aikido-aikido-seminar">More Info</a></p><ul><li>Nino
	 Dellisanti</li></ul>
LOCATION:Firenze\, ITALY
TRANSP:TRANSPARENT
END:VEVENT
BEGIN:VEVENT
DTSTAMP:20260422T103121Z
CREATED:20250926T135806Z
LAST-MODIFIED:20250930T150631Z
STATUS:CONFIRMED
UID:seminar-1933
DTSTART:20260515
DTEND:20260518
SUMMARY:🥋 Aikido Seminar
DESCRIPTION:🥋 3 day aikido seminar from 15 May\, Balzers\, LIECHTENSTE
	IN. Deena Drake\,Ea Murphy.\n\nMore Info: (https://aikidotravel.com/se
	minar/1933/aikido-seminar)\n\n • Deena Drake\n • Ea Murphy\n\n\n
X-ALT-DESC;FMTTYPE=text/html:<p>🥋 3 day seminar from 15 May\, Balzers\
	, LIECHTENSTEIN. Deena Drake\,Ea Murphy</p><p><a href="https://aikidot
	ravel.com/seminar/1933/aikido-seminar">More Info</a></p><ul><li>Deena 
	Drake</li><li>Ea Murphy</li></ul>
LOCATION:Balzers\, LIECHTENSTEIN
TRANSP:TRANSPARENT
END:VEVENT
BEGIN:VEVENT
DTSTAMP:20260422T103121Z
CREATED:20260413T232309Z
LAST-MODIFIED:20260416T185857Z
STATUS:CONFIRMED
UID:seminar-2249
DTSTART:20260516
DTEND:20260518
SUMMARY:🥋 Dojo Equipe
DESCRIPTION:🥋 2 day aikido seminar from 16 May\, Bologna\, ITALY. Vitt
	orio Locandro.\n\nMore Info: (https://aikidotravel.com/seminar/2249/do
	jo-equipe)\n\n • Vittorio Locandro\n\n\n
X-ALT-DESC;FMTTYPE=text/html:<p>🥋 2 day seminar from 16 May\, Bologna\
	, ITALY. Vittorio Locandro</p><p><a href="https://aikidotravel.com/sem
	inar/2249/dojo-equipe">More Info</a></p><ul><li>Vittorio Locandro</li>
	</ul>
LOCATION:Bologna\, ITALY
TRANSP:TRANSPARENT
END:VEVENT
BEGIN:VEVENT
DTSTAMP:20260422T103121Z
CREATED:20260310T102411Z
LAST-MODIFIED:20260310T102713Z
STATUS:CONFIRMED
UID:seminar-2201
DTSTART:20260522
DTEND:20260525
SUMMARY:🥋 Stage del Maestro
DESCRIPTION:🥋 3 day aikido seminar from 22 May\, Genova\, ITALY. Phili
	ppe Gouttard.\n\nMore Info: (https://aikidotravel.com/seminar/2201/sta
	ge-del-maestro)\n\n • Philippe Gouttard\n\n\n
X-ALT-DESC;FMTTYPE=text/html:<p>🥋 3 day seminar from 22 May\, Genova\,
	 ITALY. Philippe Gouttard</p><p><a href="https://aikidotravel.com/semi
	nar/2201/stage-del-maestro">More Info</a></p><ul><li>Philippe Gouttard
	</li></ul>
LOCATION:Genova\, ITALY
TRANSP:TRANSPARENT
END:VEVENT
BEGIN:VEVENT
DTSTAMP:20260422T103121Z
CREATED:20260130T171324Z
LAST-MODIFIED:20260202T110201Z
STATUS:CONFIRMED
UID:seminar-2133
DTSTART:20260529
DTEND:20260601
SUMMARY:🥋 H. FUJIMAKI
DESCRIPTION:🥋 3 day aikido seminar from 29 May\, Genova\, SAN MARINO. 
	Hiroshi Fujimaki.\n\nMore Info: (https://aikidotravel.com/seminar/2133
	/h-fujimaki)\n\n • Hiroshi Fujimaki\n\n\n
X-ALT-DESC;FMTTYPE=text/html:<p>🥋 3 day seminar from 29 May\, Genova\,
	 SAN MARINO. Hiroshi Fujimaki</p><p><a href="https://aikidotravel.com/
	seminar/2133/h-fujimaki">More Info</a></p><ul><li>Hiroshi Fujimaki</li
	></ul>
LOCATION:Genova\, SAN MARINO
TRANSP:TRANSPARENT
END:VEVENT
BEGIN:VEVENT
DTSTAMP:20260422T103121Z
CREATED:20260403T155838Z
LAST-MODIFIED:20260403T160744Z
STATUS:CONFIRMED
UID:seminar-2236
DTSTART:20260827
DTEND:20260830
SUMMARY:🥋 13° STAGE DI AIKIDO e MONTAGNA
DESCRIPTION:🥋 3 day aikido seminar from 27 August\, Sarnonico\, ITALY.
	 Silvano D'Antonio\,Marco Aliprandini.\n\nMore Info: (https://aikidotr
	avel.com/seminar/2236/13-stage-di-aikido-e-montagna)\n\n • Silvano D'A
	ntonio\n • Marco Aliprandini\n\n\n
X-ALT-DESC;FMTTYPE=text/html:<p>🥋 3 day seminar from 27 August\, Sarno
	nico\, ITALY. Silvano D'Antonio\,Marco Aliprandini</p><p><a href="http
	s://aikidotravel.com/seminar/2236/13-stage-di-aikido-e-montagna">More 
	Info</a></p><ul><li>Silvano D'Antonio</li><li>Marco Aliprandini</li></
	ul>
LOCATION:Sarnonico\, ITALY
TRANSP:TRANSPARENT
END:VEVENT
END:VCALENDAR