BEGIN:VCALENDAR
VERSION:2.0
PRODID:-//AikidoTravel.com//NONSGML jrICal 1.0 (2018-04-24)//EN
CALSCALE:GREGORIAN
METHOD:PUBLISH
X-FROM-URL: https://aikidotravel.com/seminar-calendar-mobile/filter=32
X-MS-OLK-FORCEINSPECTOROPEN:FALSE
X-WR-CALNAME:Europe
X-WR-RELCALID;VALUE=TEXT:aikido-seminars-filter-32
X-WR-CALDESC;VALUE=TEXT:Aikido Seminars within 2000km of Brno, Czechia
	.and is associated with the - organization.
X-PUBLISHED-TTL;VALUE=TEXT:P1W
X-OWNER;VALUE=TEXT:CN="Aikido Travel":mailto:info@aikidotravel.com
X-APPLE-CALENDAR-COLOR:#666666
X-OUTLOOK-COLOR:#666666
X-FUNAMBOL-COLOR:#666666
X-LOTUS-CHARSET:UTF-8
BEGIN:VEVENT
DTSTAMP:20260422T034935Z
CREATED:20260403T152346Z
LAST-MODIFIED:20260403T152747Z
STATUS:CONFIRMED
UID:seminar-2234
DTSTART:20260612
DTEND:20260615
SUMMARY:🥋 Aikido Seminar
DESCRIPTION:🥋 3 day aikido seminar from 12 June\, England\, UNITED KIN
	GDOM. Said Sebbagh\,Paolo Corallini.\n\nMore Info: (https://aikidotrav
	el.com/seminar/2234/aikido-seminar)\n\n • Said Sebbagh\n • Paolo Coral
	lini\n\n\n
X-ALT-DESC;FMTTYPE=text/html:<p>🥋 3 day seminar from 12 June\, England
	\, UNITED KINGDOM. Said Sebbagh\,Paolo Corallini</p><p><a href="https:
	//aikidotravel.com/seminar/2234/aikido-seminar">More Info</a></p><ul><
	li>Said Sebbagh</li><li>Paolo Corallini</li></ul>
LOCATION:England\, UNITED KINGDOM
TRANSP:TRANSPARENT
END:VEVENT
END:VCALENDAR